BEGIN:VCALENDAR
VERSION:2.0
BEGIN:VEVENT
DTSTART:20250515T220000Z
DTEND:20250516T010000Z
LOCATION:3385 Mayowood Rd SW\, Rochester\, MN 55902
DESCRIPTION:Dr. Pravesh Sharma and team invite you to attend the WomenWise Symposium\, which will be held at the Mayowood Stone Barn in Rochester\, MN on Thursday\, May 15th from 5:00-8:00 pm.\n\nWomenWise is a project to improve patient-centered research with women who misuse alcohol. The project is funded by the Patient-Centered Outcomes Research Institute (PCORI) and Mayo Clinic Research. Attendees will hear from experts who are involved in patient-centered research and learn more about how to get involved in community-based research.\n\nRegistration is free and dinner is provided!\n\nREGISTER HERE\n\nGot questions? Add a comment below or email WomenWise@mayo.edu\n\nConnect with others in the Addiction &amp;amp\; Recovery support forum on Mayo Clinic Connect.\n\nOverview: https://connect.mayoclinic.org/event/womenwise-symposium-research-with-women-and-alcohol-use/tab/overview/\n
SUMMARY:WomenWise Symposium: Research with women and alcohol use
END:VEVENT
END:VCALENDAR