BEGIN:VCALENDAR
VERSION:2.0
BEGIN:VEVENT
DTSTART:20250625T170000Z
DTEND:20250625T180000Z
LOCATION:Online
DESCRIPTION:This support group is for women newly diagnosed with breast cancer (in their first year of treatment) and is open to Mayo Clinic patients only.\n\nMonthly meetings are held the fourth Wednesday of every month from 11:00 a.m. to 12:00 p.m. Mountain time (find your time zone).\n\nTo register and get the Zoom invite\, contact:\nJacqui Hops MSW\, LCSW 480-342-6196\n\nWant to connect with others any time? Join the discussions in the Mayo Clinic Connect Breast Cancer Support Group online forum. Ask questions and get answers. Give and get support.\n\n\n\nOverview: https://connect.mayoclinic.org/event/newly-diagnosed-breast-cancer-support-group-meeting-sisters-1-aec7ffb6/tab/overview/\n
SUMMARY:Newly Diagnosed Breast Cancer Support Group Meeting: Sisters
END:VEVENT
END:VCALENDAR