BEGIN:VCALENDAR
VERSION:2.0
BEGIN:VEVENT
DTSTART:20261105T223000Z
DTEND:20261105T233000Z
LOCATION:Online
DESCRIPTION:This support group is for patients living with Neuroendocrine cancer and is open to Mayo Clinic patients\, caregivers\, and the community.\n\nMonthly meetings are held the first Thursday of every month from 5:30 p.m. to 6:30 p.m. Eastern time (find your time zone).\n\nRegistration is required via this Zoom Meeting Registration Link.\nMaximum of 50 participants. Early registration is recommended. Contact Oncology Social Work at 904-953-6831 with questions.\n\nWant to connect with others any time? Join the discussions in the Mayo Clinic Connect Neuroendocrine Tumors (NETs) Support Group online forum. Ask questions and get answers. Give and get support.\n\nOverview: https://connect.mayoclinic.org/event/neuroendocrine-tumor-support-group-meeting-zebras-046ba324/tab/overview/\n
SUMMARY:Neuroendocrine Tumor Support Group Meeting: Zebras 
END:VEVENT
END:VCALENDAR