BEGIN:VCALENDAR
VERSION:2.0
BEGIN:VEVENT
DTSTART:20260803T170000Z
DTEND:20260803T180000Z
LOCATION:Online
DESCRIPTION:This support group is for patients with muscular dystrophy and their family members and caregivers. Join us online to learn and share experiences with each other.\n\nGroups meets the first Monday of each month on Zoom from 1:00 - 2:00 p.m. ET (find your time zone)\n\nPreregistration is required.\n\nContact Neuroscience Social Work at 904-953-0332 to pre-register for group and you will be added to the email list to receive the link to group every month.\n\nOverview: https://connect.mayoclinic.org/event/muscular-dystrophy-support-group-meeting-8dafbaf4/tab/overview/\n
SUMMARY:Muscular Dystrophy Support Group Meeting
END:VEVENT
END:VCALENDAR