BEGIN:VCALENDAR
VERSION:2.0
BEGIN:VEVENT
DTSTART:20230612T213000Z
DTEND:20230612T223000Z
LOCATION:Online
DESCRIPTION:*For newly diagnosed\, receiving treatment or in surveillance.\n\nThis group provides education and support to patients diagnosed with NETs (Gynecological cancer). All patients and their caregivers are welcome to attend.\n\n2nd Monday of each Month: 5:30 p.m. – 6:30 p.m. EST\n\nThe zoom link is posted on Mayo Connect prior to the meeting. https://mchealth.zoom.us/meeting/register/tJUpcumqrjspG9fMELiP7SZzpF_vPDfkhNuz\n\nOpen to the community\, patients and caregivers welcome.\n\nMaximum of 50 participants. Early registration on Zoom is required and recommended.\n\nContact number for Oncology Social Work: 904-953-6831\n\nOverview: https://connect.mayoclinic.org/event/gyn-support-group-women-of-s-teal-jax-8/tab/overview/\n
SUMMARY:GYN Support Group-Women of S-Teal Jax
END:VEVENT
END:VCALENDAR