BEGIN:VCALENDAR
VERSION:2.0
BEGIN:VEVENT
DTSTART:20240521T140000Z
DTEND:20240521T150000Z
LOCATION:Online
DESCRIPTION:Connect with other adults\, hear from experts\, and discuss current topics\, and build a stronger community of people living with CF.\n\nMeets on the third Tuesday of every month at 10:00am Eastern Time (find your time zone).\n\nUse the QR Code or the link below to complete a one-time registration to join the group:\n\n\n\n\nRegister: https://mchealth.zoom.us/meeting/register/tJ0kc--urDwrHNZWqQ3MinEwAmf352552oL3\n\nWant to connect with others any time?\nJoin the discussions in the Mayo Clinic Connect Cystic Fibrosis Support Group online forum. Ask questions and get answers. Give and get support.\n\n\n\nOverview: https://connect.mayoclinic.org/event/cystic-fibrosis-adult-patient-support-group-21/tab/overview/\n
SUMMARY:Cystic Fibrosis Adult Patient Support Group Meeting: Airwaves
END:VEVENT
END:VCALENDAR