BEGIN:VCALENDAR
VERSION:2.0
BEGIN:VEVENT
DTSTART:20260730T190000Z
DTEND:20260730T200000Z
LOCATION:Online
DESCRIPTION:Caring for the Caregiver Support Group meets weekly on Thursdays from 12-1 p.m. Arizona time (Find your time zone.)\n\nThis is a group specifically for those who care for a loved one- regardless of their medical issue. This group was formed as a way to connect\, share and receive support from others navigating the often overwhelming journey as caregiver.\n\nAll caregivers welcome. The group is for caregivers\, so we respectfully ask that patients not attend. Currently the group meets virtually via Zoom.\n\nTo register and get the Zoom invite\, contact:\nKatie Lespron MSW\, LCSW 480-342-4005\n\nTo connect with others like you between monthly meetings\, join the online discussions in:\n\n 	Caregivers forum\n 	Caregivers: Dementia forum\n\n\nOverview: https://connect.mayoclinic.org/event/caregiver-support-group-meetings-fd555381/tab/overview/\n
SUMMARY:Caregiver Support Group Meetings
END:VEVENT
END:VCALENDAR