BEGIN:VCALENDAR
VERSION:2.0
BEGIN:VEVENT
DTSTART:20251013T170000Z
DTEND:20251013T180000Z
LOCATION:Online
DESCRIPTION:This support group provides online support for breast cancer survivors interested in mindfulness-based practices\, stress resiliency practice\, and human connection. This group is open to Mayo Clinic patients and the community.\n\nMonthly meetings are held the second Monday of every month from 1:00 p.m. to 2:00 p.m. Eastern time (find your time zone).\n\nContact Kristin Lothman (lothman.kristin@mayo.edu) if you are interested in joining.\n\nWant to connect with others any time? Join the discussions in the Mayo Clinic Connect Breast Cancer Support Group online forum. Ask questions and get answers. Give and get support.\n\nOverview: https://connect.mayoclinic.org/event/breast-cancer-support-group-meeting-moving-forward-staying-present-1-f6a8ed65/tab/overview/\n
SUMMARY:Breast Cancer Support Group Meeting: Moving Forward, Staying Present
END:VEVENT
END:VCALENDAR